BEGIN:VCALENDAR
VERSION:2.0
PRODID:-//Räucherei - ECPv6.15.11//NONSGML v1.0//EN
CALSCALE:GREGORIAN
METHOD:PUBLISH
X-ORIGINAL-URL:https://www.raeucherei.org
X-WR-CALDESC:Veranstaltungen für Räucherei
REFRESH-INTERVAL;VALUE=DURATION:PT1H
X-Robots-Tag:noindex
X-PUBLISHED-TTL:PT1H
BEGIN:VTIMEZONE
TZID:Europe/Berlin
BEGIN:DAYLIGHT
TZOFFSETFROM:+0100
TZOFFSETTO:+0200
TZNAME:CEST
DTSTART:20240331T010000
END:DAYLIGHT
BEGIN:STANDARD
TZOFFSETFROM:+0200
TZOFFSETTO:+0100
TZNAME:CET
DTSTART:20241027T010000
END:STANDARD
BEGIN:DAYLIGHT
TZOFFSETFROM:+0100
TZOFFSETTO:+0200
TZNAME:CEST
DTSTART:20250330T010000
END:DAYLIGHT
BEGIN:STANDARD
TZOFFSETFROM:+0200
TZOFFSETTO:+0100
TZNAME:CET
DTSTART:20251026T010000
END:STANDARD
BEGIN:DAYLIGHT
TZOFFSETFROM:+0100
TZOFFSETTO:+0200
TZNAME:CEST
DTSTART:20260329T010000
END:DAYLIGHT
BEGIN:STANDARD
TZOFFSETFROM:+0200
TZOFFSETTO:+0100
TZNAME:CET
DTSTART:20261025T010000
END:STANDARD
END:VTIMEZONE
BEGIN:VEVENT
DTSTART;TZID=Europe/Berlin:20251205T190000
DTEND;TZID=Europe/Berlin:20251205T230000
DTSTAMP:20260424T060025
CREATED:20251030T204940Z
LAST-MODIFIED:20251205T124216Z
UID:480-1764961200-1764975600@www.raeucherei.org
SUMMARY:!!!In die Schaubude im Hinterhof verlegt!!! Big Daddy Wilson - "Back To The Roots" Tour 2025
DESCRIPTION:Wir müssen leider die Veranstatlung von Big Daddy Wilson am 05.12.25 um 19 Uhr in die Schaubude im Hinterhof verlegen (Bergstr. 17\, 24103 Kiel) Wir bitten die Umstände zu verzeihen und wünschen Ihnen trotzdem ein angenehmens Konzerterlebnis! \n\n\n\nBig Daddy Wilson „Back To The Roots“ Tour 2025Der amerikanische Blues-Singer-Songwriter Big Daddy Wilson kehrt in 2025 zu seinen musikalischen Ursprüngen zurück. Das neue Album „ Smiling All Day Long „\, das im Jahr 2025 veröffentlicht wird\, ist eine ehrliche und tiefgründige Hommage an die Wurzeln der schwarzen Musik – und gleichzeitig ein eindrucksvoller Beweis für die musikalische Vielseitigkeit und Reife des preisgekrönten Künstlers.Mit „Back To The Roots“ lädt Big Daddy Wilson seine Fans auf eine facettenreiche Reise ein\, die von Roots-Blues über klassischen Soul und Folk bis hin zu zeitgenössischen Urban Grooves reicht. Jeder Song erzählt eine eigene Geschichte und spiegelt die authentische Verbindung des Künstlers zu den Traditionen der schwarzen Musik wider\, gepaart mit modernen Einflüssen und seiner einzigartigen Stimme.Das Live-ErlebnisAuthentisch\, kraftvoll und voller Leidenschaft: Big Daddy Wilson begeistert mit einem einzigartigen Mix aus Blues\, Roots und Soul. Ob als Duo\, Trio oder mit voller Bandbesetzung – die Formation bietet ein vielseitiges Repertoire\, das von sanften akustischen Klängen bis hin zu elektrisierenden Groove reicht.Egal\, ob auf kleinen\, intimen Bühnen oder bei großen Festivals – Big Daddy Wilson sorgt für Gänsehautmomente und pure Energie. \n\n\n\n\n\nTickets
URL:https://www.raeucherei.org/event/big-daddy-wilson-back-to-the-roots-tour-2025/
CATEGORIES:Konzert
ATTACH;FMTTYPE=image/jpeg:https://www.raeucherei.org/wp-content/uploads/2025/10/BDW.jpg
END:VEVENT
END:VCALENDAR