BEGIN:VCALENDAR
VERSION:2.0
PRODID:-//Räucherei - ECPv6.15.11//NONSGML v1.0//EN
CALSCALE:GREGORIAN
METHOD:PUBLISH
X-WR-CALNAME:Räucherei
X-ORIGINAL-URL:https://www.raeucherei.org
X-WR-CALDESC:Veranstaltungen für Räucherei
REFRESH-INTERVAL;VALUE=DURATION:PT1H
X-Robots-Tag:noindex
X-PUBLISHED-TTL:PT1H
BEGIN:VTIMEZONE
TZID:Europe/Berlin
BEGIN:DAYLIGHT
TZOFFSETFROM:+0100
TZOFFSETTO:+0200
TZNAME:CEST
DTSTART:20250330T010000
END:DAYLIGHT
BEGIN:STANDARD
TZOFFSETFROM:+0200
TZOFFSETTO:+0100
TZNAME:CET
DTSTART:20251026T010000
END:STANDARD
BEGIN:DAYLIGHT
TZOFFSETFROM:+0100
TZOFFSETTO:+0200
TZNAME:CEST
DTSTART:20260329T010000
END:DAYLIGHT
BEGIN:STANDARD
TZOFFSETFROM:+0200
TZOFFSETTO:+0100
TZNAME:CET
DTSTART:20261025T010000
END:STANDARD
BEGIN:DAYLIGHT
TZOFFSETFROM:+0100
TZOFFSETTO:+0200
TZNAME:CEST
DTSTART:20270328T010000
END:DAYLIGHT
BEGIN:STANDARD
TZOFFSETFROM:+0200
TZOFFSETTO:+0100
TZNAME:CET
DTSTART:20271031T010000
END:STANDARD
END:VTIMEZONE
BEGIN:VEVENT
DTSTART;TZID=Europe/Berlin:20260424T140000
DTEND;TZID=Europe/Berlin:20260425T140000
DTSTAMP:20260423T185107
CREATED:20251125T170540Z
LAST-MODIFIED:20251203T210004Z
UID:512-1777039200-1777125600@www.raeucherei.org
SUMMARY:20 Jahre MOSH IM MAI
DESCRIPTION:20 Jahre MOSH IM MAI! \n\n\n\nDAS Norddeutsche Metal Indoor Festival feiert am 24./25.04.2026 in der Kieler Räucherei sein zwanzigstes Jubiläum! Bereits über 130 Auftritte gab es in den vergangenen 2 Jahrzehnten\, die letzten Ausgaben allesamt ausverkauft! Ein faires „Pay Your Price“ Einlasssystem für kulturelle Teilhabe\, ehrenamtliche Helfer\, eine Non-Profit-Philosophie und nicht zuletzt die Räucherei mit ihren 2 Ebenen und einem Außengelände machten das Festival in den vergangenen 2 Jahrzehnten bei Bands und Gästen so beliebt. Die Wurzeln des Festivals liegen im Thrash/Death Metal\, aber auch Bands vieler anderer Richtungen finden sich seit Jahren im Line-Up. Die kommende Ausgabe wird da keine Ausnahme und eine große\, 2-tägige Geburtstagsfeier\, die sicher lange in Erinnerung bleiben wird! Tickets sind so lange Vorrat reicht an der Tageskasse erhältlich. \n\n\n\nWeitere Infos: \n\n\n\nfacebookinstagramwebsite
URL:https://www.raeucherei.org/event/20-jahre-mosh-im-mai/
CATEGORIES:Konzert
ATTACH;FMTTYPE=image/jpeg:https://www.raeucherei.org/wp-content/uploads/2025/11/MIM_26.jpg
END:VEVENT
BEGIN:VEVENT
DTSTART;TZID=Europe/Berlin:20260502T190000
DTEND;TZID=Europe/Berlin:20260502T230000
DTSTAMP:20260423T185107
CREATED:20260107T155245Z
LAST-MODIFIED:20260107T161706Z
UID:563-1777748400-1777762800@www.raeucherei.org
SUMMARY:KUULT - Fallschirmvertrauen - Tour Ersatztermin
DESCRIPTION:Kuult kann\, weil Kuult will…und das seit über 10 Jahren. Unermüdlich touren\, Songs schreiben sowie Musik nach vorne tragen. Und so kündigt das Pop-Trio aus dem Ruhrpott hochmotiviert das fünfte Album an. Frontmann Chris Werner entpuppt sich dabei als Grandseigneur der eindringlichen und leisen Töne\, um dann wieder ungedrosselt in den Partymodus zu wechseln. Hier trifft Energie auf Emotion. Kuult halt….. \n\n\n\n\n\nTickets
URL:https://www.raeucherei.org/event/kuult-fallschirmvertrauen-tour-ersatztermin/
CATEGORIES:Konzert
ATTACH;FMTTYPE=image/jpeg:https://www.raeucherei.org/wp-content/uploads/2026/01/Kuult-Trio_neu.jpg
END:VEVENT
BEGIN:VEVENT
DTSTART;TZID=Europe/Berlin:20260503T140000
DTEND;TZID=Europe/Berlin:20260503T200000
DTSTAMP:20260423T185107
CREATED:20260413T160426Z
LAST-MODIFIED:20260413T160704Z
UID:588-1777816800-1777838400@www.raeucherei.org
SUMMARY:BRING THE TRASH OUT - Street Dance Battle
DESCRIPTION:Bring The Trash Out – Streetdance Battle \n\n\n\n\nMai 2026 | Kiel\n\n\n\n\nBeginn: 14 UhrEintritt: frei! \n\n\n\n@dancEducation organizes and supports the street rules scene – allstyle\, freestyle\, urban energy and extreme expression.You are the stage. You are the energy. You are the machine.European Battle – KielMach dich bereit für das nächste Bring The Trash Out – ein energiegeladenes Treffen\, bei dem Tänzer*innen\, Kreative und Liebhaber urbaner Kultur zusammenkommen\, um ihre Skills zu zeigen\, Vibes auszutauschen und die Kultur weiter voranzubringen.Dich erwartet eine kraftvolle Mischung aus Battles\, Community-Momenten und musikalischer Energie. Das Event steht für authentischen Streetdance\, kreative Freiheit und den Ausdruck einer lebendigen Szene.€1\,000 prize money – and we’re building more.Verpass es nicht – markiere dir den Termin und werde Teil der Bewegung.
URL:https://www.raeucherei.org/event/bring-the-trash-out-street-dance-battle/
CATEGORIES:Show
ATTACH;FMTTYPE=image/jpeg:https://www.raeucherei.org/wp-content/uploads/2026/04/03.05.2026-BTTO-II-1-scaled.jpg
END:VEVENT
BEGIN:VEVENT
DTSTART;TZID=Europe/Berlin:20260508T190000
DTEND;TZID=Europe/Berlin:20260508T233000
DTSTAMP:20260423T185107
CREATED:20251230T213302Z
LAST-MODIFIED:20251230T213328Z
UID:548-1778266800-1778283000@www.raeucherei.org
SUMMARY:Comedyflash - Die Stand Up Comedy Show
DESCRIPTION:LIVE Stand Up Comedy in Kiel! \n\n\n\nWir zeigen euch einen Mix aus erfahrenen Profi-Comedians und den heißesten Newcomern der deutschen Comedy-Szene. \n\n\n\nComedyflash – bekannt aus TikTok und Instagram\, die junge authentische Comedy-Show. \n\n\n\nEgal wer an diesem Abend auf der Bühne steht – Euch erwartet absolut authentische Stand Up Comedy nach amerikanischem Vorbild! \n\n\n\nDas Ticket muss nicht ausgedruckt werden und kann bis zu 24 Stunden vor der Show erstattet werden. \n\n\n\n\n\nTickets
URL:https://www.raeucherei.org/event/comedyflash-die-stand-up-comedy-show-5/
CATEGORIES:Show
ATTACH;FMTTYPE=image/jpeg:https://www.raeucherei.org/wp-content/uploads/2025/10/comedy.jpg
END:VEVENT
BEGIN:VEVENT
DTSTART;TZID=Europe/Berlin:20261120T220000
DTEND;TZID=Europe/Berlin:20261121T070000
DTSTAMP:20260423T185107
CREATED:20260420T192634Z
LAST-MODIFIED:20260420T192845Z
UID:593-1795212000-1795244400@www.raeucherei.org
SUMMARY:WESTBAM live in Kiel
DESCRIPTION:FR 20.11.26 22H \n\n\n\nWESTBAM \n\n\n\nDie Schaubude präsentiert WESTBAM in der Räucherei \n\n\n\nDJ Westbam (*1965 in Münster\, bürgerlich Maximilian Lenz) ist ein deutscher DJ\, Produzent\, Label-Inhaber.Er ist DER Pionier der Techno- und Rave-Kultur in Deutschland (seit den frühen 80er Jahren!)Er gilt als einer der prägendsten Künstler seiner Generation und ist Mitbegründer des Berlin Techno Sounds\, sowie Initiator berühmter Events wie „Mayday“ und „Love Parade“.Mit Hits wie „Celebration Generation“\, “Sonic Empire“ oder „Beatbox Rocker“ prägte er die Klubkultur weltweit. Bis heute rockt er sein Publikum mit seinem unverkennbaren und einzigartigen Stil. Bam! \n\n\n\nLINEUP \n\n\n\nWESTBAM (Berlin\, DE) \n\n\n\nMore tba \n\n\n\n\nTickets
URL:https://www.raeucherei.org/event/westbam-live-in-kiel/
CATEGORIES:Clubbing
ATTACH;FMTTYPE=image/jpeg:https://www.raeucherei.org/wp-content/uploads/2026/04/westbam-banner-facebook-scaled.jpg
END:VEVENT
END:VCALENDAR