BEGIN:VCALENDAR
VERSION:2.0
PRODID:-//Räucherei - ECPv6.15.11//NONSGML v1.0//EN
CALSCALE:GREGORIAN
METHOD:PUBLISH
X-ORIGINAL-URL:https://www.raeucherei.org
X-WR-CALDESC:Veranstaltungen für Räucherei
REFRESH-INTERVAL;VALUE=DURATION:PT1H
X-Robots-Tag:noindex
X-PUBLISHED-TTL:PT1H
BEGIN:VTIMEZONE
TZID:Europe/Berlin
BEGIN:DAYLIGHT
TZOFFSETFROM:+0100
TZOFFSETTO:+0200
TZNAME:CEST
DTSTART:20250330T010000
END:DAYLIGHT
BEGIN:STANDARD
TZOFFSETFROM:+0200
TZOFFSETTO:+0100
TZNAME:CET
DTSTART:20251026T010000
END:STANDARD
BEGIN:DAYLIGHT
TZOFFSETFROM:+0100
TZOFFSETTO:+0200
TZNAME:CEST
DTSTART:20260329T010000
END:DAYLIGHT
BEGIN:STANDARD
TZOFFSETFROM:+0200
TZOFFSETTO:+0100
TZNAME:CET
DTSTART:20261025T010000
END:STANDARD
BEGIN:DAYLIGHT
TZOFFSETFROM:+0100
TZOFFSETTO:+0200
TZNAME:CEST
DTSTART:20270328T010000
END:DAYLIGHT
BEGIN:STANDARD
TZOFFSETFROM:+0200
TZOFFSETTO:+0100
TZNAME:CET
DTSTART:20271031T010000
END:STANDARD
END:VTIMEZONE
BEGIN:VEVENT
DTSTART;TZID=Europe/Berlin:20260411T190000
DTEND;TZID=Europe/Berlin:20260411T230000
DTSTAMP:20260423T224858
CREATED:20260304T221149Z
LAST-MODIFIED:20260310T131937Z
UID:583-1775934000-1775948400@www.raeucherei.org
SUMMARY:ZEN BISON + KRYPTOGRAF + KOMET GAMMAGAMMA
DESCRIPTION:ZEN BISON liefern einen Sound zwischen Psychedelic und Heavy Rock\, denn neben schweren Riffs unternimmt das Berliner Powertrio auch gern Psychedelic Trips in krautige Gefilde. Dort riecht es nach Patschuli und Weihrauch. Dort schwebt es. Beide Wege führen ins Nirwana. Die Reise beginnt hier und jetzt.FFO: The Jimi Hendrix Experience\, Grand Funk Railroad\, Santana \n\n\n\nKRYPTOGRAF verbindet die rohen\, schweren Klänge des Rocks der späten 60er und frühen 70er Jahre mit der Intensität und Aggressivität\, die die Genres Doom und Stoner auszeichnen. Die Band stammt aus Bergen\, Norwegen – einer Stadt\, die für ihre gleichgesinnte Stoner-Szene bekannt ist\, darunter Bands wie Slomosa – und hat bereits beim Sonic Whip Festival in den Niederlanden und dem renommierten Esbjerg Fuzztival gespielt. Damit stehen sie auf einer Stufe mit norwegischen Riff-Giganten wie Motorpsycho\, Kanaan und Hedvig Mollestad\, ganz zu schweigen davon\, dass sie als Vorband für einflussreiche Acts wie Hällas und Spidergawd auftraten. \n\n\n\nKOMET GAMMAGAMMA gründeten sich Ende 2024 in Kiel\, nachdem Kai\, Luca und Jan-Eric sich zum gemeinsamen Jammen im Proberaum von Kais und Lucas alter Band trafen. Nach einigen Sessions war den dreien klar\, dass sie den dort entstandenen Sound\, als festes Bandprojekt\, fokussiert weiterverfolgen und erkunden mussten. Zunächst unter dem Namen GammaGamma\, zeichnete sich über die nächsten Monate ein musikalisches Bild zwischen Improvisation und detailliert ausgearbeiteten Strukturen\, welches im Sommer 2025 zu einem vollständigen Live-Set erwuchs und bereits beim ersten Gig viel Anklang fand. Musikalisch bewegt sich das Trio dabei auf einem Feld zwischen Motorikbeats\, inspiriert vom Krautrock der 70er\, schweren Stoner-Riffs\, psychedelischen Klangteppichen\, und elektronischer Musik mit live gespielten Synthesizern. Zur Zeit laufen die Arbeiten an ersten Aufnahmen\, welche im Laufe des Jahres 2026 veröffentlicht werden sollen. Erste Eindrücke lassen sich bereits in Konzert-Mitschnitten auf Social Media gewinnen. \n\n\n\n\nTickets
URL:https://www.raeucherei.org/event/zen-bison-kryptograf-komet-gammagamma/
CATEGORIES:Konzert
ATTACH;FMTTYPE=image/png:https://www.raeucherei.org/wp-content/uploads/2026/03/fb_grafik_r-1.png
END:VEVENT
END:VCALENDAR