BEGIN:VCALENDAR
VERSION:2.0
PRODID:-//Räucherei - ECPv6.15.11//NONSGML v1.0//EN
CALSCALE:GREGORIAN
METHOD:PUBLISH
X-WR-CALNAME:Räucherei
X-ORIGINAL-URL:https://www.raeucherei.org
X-WR-CALDESC:Veranstaltungen für Räucherei
REFRESH-INTERVAL;VALUE=DURATION:PT1H
X-Robots-Tag:noindex
X-PUBLISHED-TTL:PT1H
BEGIN:VTIMEZONE
TZID:Europe/Berlin
BEGIN:DAYLIGHT
TZOFFSETFROM:+0100
TZOFFSETTO:+0200
TZNAME:CEST
DTSTART:20250330T010000
END:DAYLIGHT
BEGIN:STANDARD
TZOFFSETFROM:+0200
TZOFFSETTO:+0100
TZNAME:CET
DTSTART:20251026T010000
END:STANDARD
BEGIN:DAYLIGHT
TZOFFSETFROM:+0100
TZOFFSETTO:+0200
TZNAME:CEST
DTSTART:20260329T010000
END:DAYLIGHT
BEGIN:STANDARD
TZOFFSETFROM:+0200
TZOFFSETTO:+0100
TZNAME:CET
DTSTART:20261025T010000
END:STANDARD
BEGIN:DAYLIGHT
TZOFFSETFROM:+0100
TZOFFSETTO:+0200
TZNAME:CEST
DTSTART:20270328T010000
END:DAYLIGHT
BEGIN:STANDARD
TZOFFSETFROM:+0200
TZOFFSETTO:+0100
TZNAME:CET
DTSTART:20271031T010000
END:STANDARD
END:VTIMEZONE
BEGIN:VEVENT
DTSTART;TZID=Europe/Berlin:20260314T190000
DTEND;TZID=Europe/Berlin:20260314T230000
DTSTAMP:20260424T002709
CREATED:20260107T152005Z
LAST-MODIFIED:20260107T152237Z
UID:558-1773514800-1773529200@www.raeucherei.org
SUMMARY:GARTH. - PLANET NOWHERE TOUR
DESCRIPTION:Nach einer Tournee durch 15 europäische Städte und einer landesweiten Tournee durch die USA zur Präsentation seines 2025 erschienenen Albums „Good Taste“ kehrt Garth. im Frühjahr 2026 mit der „Planet Nowhere Tour“ nach Europa zurück. Inspiriert von Legenden wie Earth\, Wind & Fire und Prince sowie zeitgenössischen Stars wie Jazmine Sullivan\, Outkast und Frank Ocean\, verbindet sein Sound Reggae\, Elektronik\, Hip-Hop und R&B – er zelebriert Tradition und kreiert gleichzeitig etwas Neues. Die Tournee wird „Planet Nowhere“ unterstützen\, sein mit Spannung erwartetes neues Studio-Projekt\, das nächstes Jahr erscheinen wird. Verpassen Sie nicht das mitreißende Live-Erlebnis\, das die Bühnen rund um den Globus zum Leuchten bringt – sichern Sie sich jetzt Ihre Tickets. \n\n\n\n\n\nTickets
URL:https://www.raeucherei.org/event/garth-planet-nowhere-tour/
CATEGORIES:Konzert
ATTACH;FMTTYPE=image/jpeg:https://www.raeucherei.org/wp-content/uploads/2026/01/Garth.jpg
END:VEVENT
END:VCALENDAR