BEGIN:VCALENDAR
VERSION:2.0
PRODID:-//Räucherei - ECPv6.15.11//NONSGML v1.0//EN
CALSCALE:GREGORIAN
METHOD:PUBLISH
X-WR-CALNAME:Räucherei
X-ORIGINAL-URL:https://www.raeucherei.org
X-WR-CALDESC:Veranstaltungen für Räucherei
REFRESH-INTERVAL;VALUE=DURATION:PT1H
X-Robots-Tag:noindex
X-PUBLISHED-TTL:PT1H
BEGIN:VTIMEZONE
TZID:Europe/Berlin
BEGIN:DAYLIGHT
TZOFFSETFROM:+0100
TZOFFSETTO:+0200
TZNAME:CEST
DTSTART:20250330T010000
END:DAYLIGHT
BEGIN:STANDARD
TZOFFSETFROM:+0200
TZOFFSETTO:+0100
TZNAME:CET
DTSTART:20251026T010000
END:STANDARD
BEGIN:DAYLIGHT
TZOFFSETFROM:+0100
TZOFFSETTO:+0200
TZNAME:CEST
DTSTART:20260329T010000
END:DAYLIGHT
BEGIN:STANDARD
TZOFFSETFROM:+0200
TZOFFSETTO:+0100
TZNAME:CET
DTSTART:20261025T010000
END:STANDARD
BEGIN:DAYLIGHT
TZOFFSETFROM:+0100
TZOFFSETTO:+0200
TZNAME:CEST
DTSTART:20270328T010000
END:DAYLIGHT
BEGIN:STANDARD
TZOFFSETFROM:+0200
TZOFFSETTO:+0100
TZNAME:CET
DTSTART:20271031T010000
END:STANDARD
END:VTIMEZONE
BEGIN:VEVENT
DTSTART;TZID=Europe/Berlin:20260227T190000
DTEND;TZID=Europe/Berlin:20260227T233000
DTSTAMP:20260424T002710
CREATED:20251119T153442Z
LAST-MODIFIED:20251203T212849Z
UID:506-1772218800-1772235000@www.raeucherei.org
SUMMARY:27. Internationales Kieler Blues Festival
DESCRIPTION:Die nächste Ausgabe des Internationalen Kieler Blues Festivals steht in den Startlöchern. Am regulären und seit über 25 Jahren schon traditionellen Termin – den letzten Freitag im Februar – findet am 27.02.2026 die 27. Ausgabe statt. Respekt vor der Tradition sowie den Stilrichtungen des Blues und immer wieder innovativ – das Publikum mitreißen\, überraschen\, begeistern! Beim absolut hochklassig besetzten 27. Internationalen Blues Festival in Kiel Live on Stage: \n\n\n\n\n\n\n\nThe Blues Overdrive (DK)* \n\n\n\nJimi Barbiani Band (I)* \n\n\n\nChris Kramer & Beatboxn Blues (D) \n\n\n\n\nTickets\n\n\n\n\nDas Internationale Kieler Blues Festival geht 2026 mit einem sehr ausgeglichenen Künstler Line-up an den Start. Einen einzigen Headliner zu benennen oder zu finden dürfte schwer werden. Alle Künstler des wieder einmal grandiosen Programms sind praktisch gleichwertig. Man kann sagen\, am Freitag den 27. Februar 2026\, werden ab 20:00 Uhr (Einlass um 19:00 Uhr) gleich drei Headliner zu erleben sein. Welches Festival sonst kann schon mit 100% Top-Act-Quote aufwarten? \n\n\n\nChris Kramer & Beatboxn Blues ist ein außergewöhnliches Trio – halb akustisch\, halb elektrisch\, welches nicht nur in Deutschland seinesgleichen sucht! Die Jungs aus dem Ruhrpott\, um den sechsmaligen Gewinner des German Blues Awards Chris Kramer (virtuoser Mundharmonikaspieler\, Singer-Songwriter und Sänger)\, waren auch schon selbst auf Tour quer durch die USA und konnten das kritische amerikanische Publikum überall restlos begeistern. „Beatboxen“ heißt die Kunst\, ein komplettes Schlagzeug mit dem Mund zu imitieren. Kevin O Neal ist als zweifacher deutscher Beatboxmeister ein wahrer Meister seines Fachs. Gitarrist Sean Athens ist seit seinem 14 Lebensjahr im Showgeschäft. Direkt am Anfang seiner Karriere konnte er die Bosse der Plattenindustrie von sich überzeugen und direkt in der ausverkauften „Barclay Arena“ in Hamburg bei „THE DOME“ auftreten. Auf der Bühne verwandelt er sich zu einer energiegeladenen „Rampensau“\, lebt und stirbt für jeden einzelnen Ton und verschmilzt förmlich mit seiner Gitarre. \n\n\n\nDie Jimi Barbiani Band aus Italien waren erst im März 2025 Top-Act beim GUITAR HEROES FESTIVAL in Joldelund. Jimi Barbiani zählt zu den besten Blues-Rock- Slide-Gitarristen Europas. Sein Stil ist geprägt durch Einflüsse von Künstlern wie Jimi Hendrix\, Joe Bonamassa\, Jeff Beck\, Free und Gov‘t Mule. Ein höllisch treibender\, fetter Bass\, ein ´Killer´-Drummer\, ein Lead-Gesang voller Inbrunst und Inspiration\, erdige\, straighte Riffs und fulminante\, beeindruckende Soli des Gitarrenakrobaten Jimi Barbiani – das in etwa sind die Eckpfeiler dieses fulminanten Power Trios aus Italien! Ihren leidenschaftlichen Blues und Rock kreieren sie in einem einzigartigen Sound. Bei Barbiani stimmt nicht nur das Fundament\, sondern vor allem auch der Groove und das Rock’n‘Roll-Feeling. Klassische Blues-Fragments treffen auf zeitgemäße Noten der Rockmusik. Es gibt in Europa mittlerweile eine interessante\, neu entflammte Blues-Rock-Szene. Aber nur wenige Vertreter haben auch die Qualität\, die die Jimi Barbiani Band zutage bringt! Jimi spielt mit einem an Muddy Waters erinnernden Stil. Mit seinem tiefen Vibrato und einer an Duane Allman erinnernden Slide-Style inspiriert seine Musik das Publikum\, die den Zauber klassischer Bluesrock Klänge sowie die rasende Energie einer Live-Show genießen. \n\n\n\nDie Dritten im Bunde sind The Blues Overdrive aus Dänemark. Die Band ist zweifacher Gewinner des European Blues Award und eine der angesehensten Live- Bands Skandinaviens im Bereich Blues und Roots-Musik. Ende 2025 erscheint ihr neues Album „Live Slices“. Im Laufe der Jahre standen die Mitglieder der Gruppe mit legendären Künstlern wie Paul McCartney (ja\, wirklich!)\, Manfred Mann\, Duke Robillard (Tom Waits\, Bob Dylan\, Fabulous Thunderbirds)\, Mitch Mitchell (Jimi Hendrix)\, Lazy Lester und James Harman auf der Bühne. The Blues Overdrive hat sich in der internationalen Blues-Szene einen großen Namen gemacht\, ist bei Konzerten in ganz Europa und den USA aufgetreten. Sie werden von bedeutenden Musikpublikationen auf der ganzen Welt für ihren einzigartigen Sound gelobt\, der verschiedene Stile des Blues und der Roots-Musik auf einzigartige Weise miteinander verbindet. Mit ihrem markanten Sound liefern die Gitarristen Martin Olsen und Andreas Andersen ein einzigartiges\, hypnotisches Klangmosaik. Dazu kommen der funkige\, knackige Bass-Sound von Thor Boding und die ultragenauen Grooves von Louisian Boltner – und schon hat man eine Band\, die die Vergangenheit wie die Zukunft klingen lässt. \n\n\n\nErneut wird auch für die Festival Neuauflage bis einschließlich 06. Dezember 2025 ein Frühbucherpreis angeboten. Das seit vielen Jahren bewährte und beliebte Frühbucher-Ticket gibt es für 5\,- € günstiger!
URL:https://www.raeucherei.org/event/27-internationales-kieler-blues-festival/
CATEGORIES:Konzert
ATTACH;FMTTYPE=image/jpeg:https://www.raeucherei.org/wp-content/uploads/2025/11/Blues-Festival-2026_Collage-Presse-2-scaled.jpg
END:VEVENT
END:VCALENDAR