BEGIN:VCALENDAR
VERSION:2.0
PRODID:-//Räucherei - ECPv6.15.11//NONSGML v1.0//EN
CALSCALE:GREGORIAN
METHOD:PUBLISH
X-WR-CALNAME:Räucherei
X-ORIGINAL-URL:https://www.raeucherei.org
X-WR-CALDESC:Veranstaltungen für Räucherei
REFRESH-INTERVAL;VALUE=DURATION:PT1H
X-Robots-Tag:noindex
X-PUBLISHED-TTL:PT1H
BEGIN:VTIMEZONE
TZID:Europe/Berlin
BEGIN:DAYLIGHT
TZOFFSETFROM:+0100
TZOFFSETTO:+0200
TZNAME:CEST
DTSTART:20250330T010000
END:DAYLIGHT
BEGIN:STANDARD
TZOFFSETFROM:+0200
TZOFFSETTO:+0100
TZNAME:CET
DTSTART:20251026T010000
END:STANDARD
BEGIN:DAYLIGHT
TZOFFSETFROM:+0100
TZOFFSETTO:+0200
TZNAME:CEST
DTSTART:20260329T010000
END:DAYLIGHT
BEGIN:STANDARD
TZOFFSETFROM:+0200
TZOFFSETTO:+0100
TZNAME:CET
DTSTART:20261025T010000
END:STANDARD
BEGIN:DAYLIGHT
TZOFFSETFROM:+0100
TZOFFSETTO:+0200
TZNAME:CEST
DTSTART:20270328T010000
END:DAYLIGHT
BEGIN:STANDARD
TZOFFSETFROM:+0200
TZOFFSETTO:+0100
TZNAME:CET
DTSTART:20271031T010000
END:STANDARD
END:VTIMEZONE
BEGIN:VEVENT
DTSTART;TZID=Europe/Berlin:20260207T230000
DTEND;TZID=Europe/Berlin:20260208T080000
DTSTAMP:20260424T024401
CREATED:20251203T212658Z
LAST-MODIFIED:20251203T212659Z
UID:527-1770505200-1770537600@www.raeucherei.org
SUMMARY:SAMSARA
DESCRIPTION:Die Samsara kehrt für die dritte Edition nach Kiel zurück und lädt zu einer Nacht ein\, die größer\, intensiver und atmosphärischer wird als je zuvor. \n\n\n\nBesonders freuen wir uns auf Rugrats aus der Schweiz\, ein Duo\, das für druckvollen\, präzise produzierten Psytrance steht und sich in den letzten Jahren über Looney Moon Records einen festen Platz in der internationalen Szene erarbeitet hat. Dazu kommt He She It\, das Projekt von Goa Jonas und Kiba\, das mit seinem verspielten\, kraftvollen Sound für ausgelassene Stimmung sorgt.Auf dem Mainfloor erwarten euch zudem energiegeladene Sets von Finndus\, Lambock\, Clemi und Dopplereffekt\, die den roten Faden durch die Nacht spannen und den Floor durchgehend in Bewegung halten. \n\n\n\nAuf dem Progressive Floor sorgen Han Uther und Numo für fließende\, hypnotische Grooves\, während Freqtal ein besonderes Special-Set präsentieren wird. \n\n\n\nFür die visuelle Gestaltung haben wir erneut U-Helica Project Decoration an Bord. Diesmal Mal gibt’s von ihnen ein komplett neues Deko-Konzept auf beiden Floors. Mit frischen Installationen\, neuen Formen und sorgfältig inszenierten Lichtelementen entsteht eine immersive Atmosphäre\, die den musikalischen Rahmen perfekt ergänzt. \n\n\n\nZwei Floors\, neue Artists\, neue Deko\, gleiche Mission: Loslassen & Eintauchen. \n\n\n\nSichert euch jetzt eure Tickets!
URL:https://www.raeucherei.org/event/samsara/
CATEGORIES:Clubbing
ATTACH;FMTTYPE=image/jpeg:https://www.raeucherei.org/wp-content/uploads/2025/12/Samsara-Feb-2026-Event-Banner-scaled.jpg
END:VEVENT
END:VCALENDAR