BEGIN:VCALENDAR
VERSION:2.0
PRODID:-//Räucherei - ECPv6.15.11//NONSGML v1.0//EN
CALSCALE:GREGORIAN
METHOD:PUBLISH
X-ORIGINAL-URL:https://www.raeucherei.org
X-WR-CALDESC:Veranstaltungen für Räucherei
REFRESH-INTERVAL;VALUE=DURATION:PT1H
X-Robots-Tag:noindex
X-PUBLISHED-TTL:PT1H
BEGIN:VTIMEZONE
TZID:Europe/Berlin
BEGIN:DAYLIGHT
TZOFFSETFROM:+0100
TZOFFSETTO:+0200
TZNAME:CEST
DTSTART:20250330T010000
END:DAYLIGHT
BEGIN:STANDARD
TZOFFSETFROM:+0200
TZOFFSETTO:+0100
TZNAME:CET
DTSTART:20251026T010000
END:STANDARD
BEGIN:DAYLIGHT
TZOFFSETFROM:+0100
TZOFFSETTO:+0200
TZNAME:CEST
DTSTART:20260329T010000
END:DAYLIGHT
BEGIN:STANDARD
TZOFFSETFROM:+0200
TZOFFSETTO:+0100
TZNAME:CET
DTSTART:20261025T010000
END:STANDARD
BEGIN:DAYLIGHT
TZOFFSETFROM:+0100
TZOFFSETTO:+0200
TZNAME:CEST
DTSTART:20270328T010000
END:DAYLIGHT
BEGIN:STANDARD
TZOFFSETFROM:+0200
TZOFFSETTO:+0100
TZNAME:CET
DTSTART:20271031T010000
END:STANDARD
END:VTIMEZONE
BEGIN:VEVENT
DTSTART;TZID=Europe/Berlin:20260124T130000
DTEND;TZID=Europe/Berlin:20260124T233000
DTSTAMP:20260424T040354
CREATED:20251203T211237Z
LAST-MODIFIED:20251203T211238Z
UID:524-1769259600-1769297400@www.raeucherei.org
SUMMARY:The Motorcycle Gathering
DESCRIPTION:Einladung zur ersten Moped-Party des Jahres! \n\n\n\nDas Motorcycle Gathering Team – bekannt aus der LoserControl- und Rabauke Custom-Crew – lädt zur Oldschool-Sause in die Räucherei Kiel ein. Am 24. Januar 2026 öffnen wir ab 13 Uhr die Türen für alle\, die Benzin im Blut haben und die Chopper-Kultur leben. \n\n\n\nUnser Event steht ganz im Zeichen handgebauter Maschinen\, authentischer Schrauberleidenschaft und echter Szene-Atmosphäre – mit klarem Fokus auf Oldschool Chopper . Eine Handverlesene Auswahl an feinsten Fahrzeugen wird live zu sehen sein. \n\n\n\nAuf euch wartet ein prall gefülltes Programm: \n\n\n\nFilmscreenings: Exklusive Aufnahmen von Rabauke Custom – unveröffentlichte Szenen direkt von Treffen und aus der Community. Echte Momentaufnahmen der Szene\, wie man sie sonst nie zu sehen bekommt.  \n\n\n\nMusik: DJ Franky & DJ Pantherfalke aka. Fanski liefern den passenden Sound vom Plattenteller – authentisch\, laut. \n\n\n\nAusstellung: handverlesene Chopper aus der Szene. \n\n\n\nFürs leibliche Wohl sorgt das fantastische Team von ROH Catering mit erstklassigen Leckerbissen. \n\n\n\nKommt vorbei\, vernetzt euch\, quatscht über Mopeds\, genießt die Atmosphäre und feiert mit uns einen Tag\, den ihr garantiert nicht vergesst. \n\n\n\nWir freuen uns auf euch!
URL:https://www.raeucherei.org/event/the-motorcycle-gathering-2/
CATEGORIES:Show
ATTACH;FMTTYPE=image/jpeg:https://www.raeucherei.org/wp-content/uploads/2025/11/biker_gathering-scaled.jpg
END:VEVENT
END:VCALENDAR