BEGIN:VCALENDAR
VERSION:2.0
PRODID:-//Räucherei - ECPv6.15.11//NONSGML v1.0//EN
CALSCALE:GREGORIAN
METHOD:PUBLISH
X-ORIGINAL-URL:https://www.raeucherei.org
X-WR-CALDESC:Veranstaltungen für Räucherei
REFRESH-INTERVAL;VALUE=DURATION:PT1H
X-Robots-Tag:noindex
X-PUBLISHED-TTL:PT1H
BEGIN:VTIMEZONE
TZID:Europe/Berlin
BEGIN:DAYLIGHT
TZOFFSETFROM:+0100
TZOFFSETTO:+0200
TZNAME:CEST
DTSTART:20250330T010000
END:DAYLIGHT
BEGIN:STANDARD
TZOFFSETFROM:+0200
TZOFFSETTO:+0100
TZNAME:CET
DTSTART:20251026T010000
END:STANDARD
BEGIN:DAYLIGHT
TZOFFSETFROM:+0100
TZOFFSETTO:+0200
TZNAME:CEST
DTSTART:20260329T010000
END:DAYLIGHT
BEGIN:STANDARD
TZOFFSETFROM:+0200
TZOFFSETTO:+0100
TZNAME:CET
DTSTART:20261025T010000
END:STANDARD
BEGIN:DAYLIGHT
TZOFFSETFROM:+0100
TZOFFSETTO:+0200
TZNAME:CEST
DTSTART:20270328T010000
END:DAYLIGHT
BEGIN:STANDARD
TZOFFSETFROM:+0200
TZOFFSETTO:+0100
TZNAME:CET
DTSTART:20271031T010000
END:STANDARD
END:VTIMEZONE
BEGIN:VEVENT
DTSTART;TZID=Europe/Berlin:20260123T193000
DTEND;TZID=Europe/Berlin:20260123T233000
DTSTAMP:20260424T040312
CREATED:20251104T212132Z
LAST-MODIFIED:20260107T150321Z
UID:491-1769196600-1769211000@www.raeucherei.org
SUMMARY:The Watch plays Genesis - Tales from 1970-1976
DESCRIPTION:Das Allerbeste von den ersten GENESIS-Alben wurde ausgewählt\, um Euch in die Ära der frühen Siebziger Jahre zurück zu versetzen!Eine der besten Genesis-Tribut-Acts der Welt kommt gleich zum Jahresbeginnerneut auf Deutschland-Tournee. The Watch plays Genesis aus Italien gelten als die mit Abstand beste Genesis Tributband\, welche sich ausschließlich auf die Band-Ära mit Peter Gabriel als Sänger und Frontmann konzentriert. Das unterscheidet sie auch von allen anderen Genesis Coverbands. Im Januar 2025 kann man sich Europaweit vielerorts persönlich davon überzeugen\, von der Einmaligkeit ihrer musikalischen Darbietung\, aber auch von ihrer optisch sehr anspruchsvollen Bühnenshow. Kein Wunder\, dass man in diesem Fall immer von einer wahren Tribut-Show von Welt-Niveau spricht und nicht von einer 0/8/15 Coverband. \n\n\n\nSchließen Sie einfach die Augen und Sie landen sofort in den Siebzigern! \n\n\n\n\n\nTickets
URL:https://www.raeucherei.org/event/the-watch-plays-genesis-tales-from-1970-1976/
CATEGORIES:Konzert
ATTACH;FMTTYPE=image/jpeg:https://www.raeucherei.org/wp-content/uploads/2025/11/TheWatch2.jpg
END:VEVENT
END:VCALENDAR