BEGIN:VCALENDAR
VERSION:2.0
PRODID:-//Räucherei - ECPv6.15.11//NONSGML v1.0//EN
CALSCALE:GREGORIAN
METHOD:PUBLISH
X-ORIGINAL-URL:https://www.raeucherei.org
X-WR-CALDESC:Veranstaltungen für Räucherei
REFRESH-INTERVAL;VALUE=DURATION:PT1H
X-Robots-Tag:noindex
X-PUBLISHED-TTL:PT1H
BEGIN:VTIMEZONE
TZID:Europe/Berlin
BEGIN:DAYLIGHT
TZOFFSETFROM:+0100
TZOFFSETTO:+0200
TZNAME:CEST
DTSTART:20240331T010000
END:DAYLIGHT
BEGIN:STANDARD
TZOFFSETFROM:+0200
TZOFFSETTO:+0100
TZNAME:CET
DTSTART:20241027T010000
END:STANDARD
BEGIN:DAYLIGHT
TZOFFSETFROM:+0100
TZOFFSETTO:+0200
TZNAME:CEST
DTSTART:20250330T010000
END:DAYLIGHT
BEGIN:STANDARD
TZOFFSETFROM:+0200
TZOFFSETTO:+0100
TZNAME:CET
DTSTART:20251026T010000
END:STANDARD
BEGIN:DAYLIGHT
TZOFFSETFROM:+0100
TZOFFSETTO:+0200
TZNAME:CEST
DTSTART:20260329T010000
END:DAYLIGHT
BEGIN:STANDARD
TZOFFSETFROM:+0200
TZOFFSETTO:+0100
TZNAME:CET
DTSTART:20261025T010000
END:STANDARD
END:VTIMEZONE
BEGIN:VEVENT
DTSTART;TZID=Europe/Berlin:20251122T230000
DTEND;TZID=Europe/Berlin:20251122T233000
DTSTAMP:20260424T073855
CREATED:20251119T132719Z
LAST-MODIFIED:20251119T132743Z
UID:497-1763852400-1763854200@www.raeucherei.org
SUMMARY:ENDORPHINRAUSCH - Party der Fachschaft Medizin
DESCRIPTION:Party People! \n\n\n\nDie nächste Medizinerparty steht vor der Tür.Am 22.11 möchten wir mit euch zum ersten Mal Endorphinrausch feiern und zu geilem Techno ordentlich abtanzen. \n\n\n\nDer Vorverkauf geht am 17.11 in der Mensa 1\, der MediBib und bei Brunswiker und Reuter. \n\n\n\nWir freuen uns darauf\, mit euch einen eine richtig gute Party zu feiern. \n\n\n\nWann? 22.11. 23 UhrWo? Räucherei Kiel
URL:https://www.raeucherei.org/event/endorphinrausch-party-der-fachschaft-medizin/
CATEGORIES:Clubbing
ATTACH;FMTTYPE=image/jpeg:https://www.raeucherei.org/wp-content/uploads/2025/11/endor2.jpg
END:VEVENT
END:VCALENDAR