BEGIN:VCALENDAR
VERSION:2.0
PRODID:-//Räucherei - ECPv6.15.11//NONSGML v1.0//EN
CALSCALE:GREGORIAN
METHOD:PUBLISH
X-WR-CALNAME:Räucherei
X-ORIGINAL-URL:https://www.raeucherei.org
X-WR-CALDESC:Veranstaltungen für Räucherei
REFRESH-INTERVAL;VALUE=DURATION:PT1H
X-Robots-Tag:noindex
X-PUBLISHED-TTL:PT1H
BEGIN:VTIMEZONE
TZID:Europe/Berlin
BEGIN:DAYLIGHT
TZOFFSETFROM:+0100
TZOFFSETTO:+0200
TZNAME:CEST
DTSTART:20240331T010000
END:DAYLIGHT
BEGIN:STANDARD
TZOFFSETFROM:+0200
TZOFFSETTO:+0100
TZNAME:CET
DTSTART:20241027T010000
END:STANDARD
BEGIN:DAYLIGHT
TZOFFSETFROM:+0100
TZOFFSETTO:+0200
TZNAME:CEST
DTSTART:20250330T010000
END:DAYLIGHT
BEGIN:STANDARD
TZOFFSETFROM:+0200
TZOFFSETTO:+0100
TZNAME:CET
DTSTART:20251026T010000
END:STANDARD
BEGIN:DAYLIGHT
TZOFFSETFROM:+0100
TZOFFSETTO:+0200
TZNAME:CEST
DTSTART:20260329T010000
END:DAYLIGHT
BEGIN:STANDARD
TZOFFSETFROM:+0200
TZOFFSETTO:+0100
TZNAME:CET
DTSTART:20261025T010000
END:STANDARD
END:VTIMEZONE
BEGIN:VEVENT
DTSTART;TZID=Europe/Berlin:20251025T230000
DTEND;TZID=Europe/Berlin:20251026T080000
DTSTAMP:20260424T091503
CREATED:20250901T085416Z
LAST-MODIFIED:20250903T213820Z
UID:459-1761433200-1761465600@www.raeucherei.org
SUMMARY:SAMSARA – Psychedelic Gathering on two Floors
DESCRIPTION:SAMSARAThe gsychedelic gathering on 2 floors \n\n\n\nNach dem letzten großen Erfolg und dem vielen guten Feedback startet die SAMSARA in die zweite Runde.Diesmal mit  JUMPSTREET\, FINNDUS\, PATTÄX\, FREQTAL und vielen mehr an den Turntables. Deco macht diesmal U-Helica Projekt Decoration. \n\n\n\nHolt euch schnell ein Ticket für dieses einmalige Event in der Räucherei Kiel. \n\n\n\nWir freuen uns auf euch! \n\n\n\n\n\nTicket
URL:https://www.raeucherei.org/event/samsara-psychedelic-gathering-on-two-floors/
CATEGORIES:Clubbing
ATTACH;FMTTYPE=image/webp:https://www.raeucherei.org/wp-content/uploads/2025/09/photo_2025-08-29_14-29-40.webp
END:VEVENT
END:VCALENDAR