BEGIN:VCALENDAR
VERSION:2.0
PRODID:-//Räucherei - ECPv6.15.11//NONSGML v1.0//EN
CALSCALE:GREGORIAN
METHOD:PUBLISH
X-ORIGINAL-URL:https://www.raeucherei.org
X-WR-CALDESC:Veranstaltungen für Räucherei
REFRESH-INTERVAL;VALUE=DURATION:PT1H
X-Robots-Tag:noindex
X-PUBLISHED-TTL:PT1H
BEGIN:VTIMEZONE
TZID:Europe/Berlin
BEGIN:DAYLIGHT
TZOFFSETFROM:+0100
TZOFFSETTO:+0200
TZNAME:CEST
DTSTART:20240331T010000
END:DAYLIGHT
BEGIN:STANDARD
TZOFFSETFROM:+0200
TZOFFSETTO:+0100
TZNAME:CET
DTSTART:20241027T010000
END:STANDARD
BEGIN:DAYLIGHT
TZOFFSETFROM:+0100
TZOFFSETTO:+0200
TZNAME:CEST
DTSTART:20250330T010000
END:DAYLIGHT
BEGIN:STANDARD
TZOFFSETFROM:+0200
TZOFFSETTO:+0100
TZNAME:CET
DTSTART:20251026T010000
END:STANDARD
BEGIN:DAYLIGHT
TZOFFSETFROM:+0100
TZOFFSETTO:+0200
TZNAME:CEST
DTSTART:20260329T010000
END:DAYLIGHT
BEGIN:STANDARD
TZOFFSETFROM:+0200
TZOFFSETTO:+0100
TZNAME:CET
DTSTART:20261025T010000
END:STANDARD
END:VTIMEZONE
BEGIN:VEVENT
DTSTART;TZID=Europe/Berlin:20250926T193000
DTEND;TZID=Europe/Berlin:20250926T233000
DTSTAMP:20260424T111521
CREATED:20250901T173042Z
LAST-MODIFIED:20250903T092038Z
UID:449-1758915000-1758929400@www.raeucherei.org
SUMMARY:PHYSICAL GRAFFITI – Greatest Hits of Led Zeppelin - Tour 2025
DESCRIPTION:Physical Graffiti sind wieder auf Tour\, um einer der größten Rockbands der Welt Tribut zu zollen: LED ZEPPELIN. Mit einem Greatest Hits Live Programm dieser britischen Rock-Institution\, einer unvergesslichen Lichtshow und fantastischen Leinwand Visuals zelebrieren Physical Graffiti die ultimative Hommage an die „Ikonen des Rock´n´Roll“ –Led Zeppelin. Ein unglaublicher Ritt in die 70er/80er Jahre\, die Blütezeit des Rock und die Sternstunden einer der größten Bands aller Zeiten. “It’s been a long time since we Rock and Rolled….” \n\n\n\n\nPhysical Graffiti spielen sowohl die unvergesslichen Klassiker der Band\, wie Stairway To Heaven\, Rock ’n Roll\, Heartbreaker\, Since I’ve been Loving You\, Whole Lotta Love\, Dazed and Confused und Black Dog als auch die anspruchsvolleren Liebhaberstücke wie Immigrant Song\, No Quarter\, Moby Dick\, Nobody’s Fault But Mine und\, natürlich\, Kashmir. Ein rund zweieinhalbstündiges Sound-Erlebnis\, das keine Wünsche offenlässt. Der niederländische Gitarrist Daniel Verberk\, in dessen Spiel – durch den Einsatz der originalen Verstärker\, Gitarren und Effekte – die Essenz von Jimmy Pages Gitarre widerhallt\, strahlt nicht nur die Coolness von Page aus. Er reproduziert dessen nonchalanten Spielstil so überzeugend\, dass man meinen könnte\, man werde soeben Zeuge\, wie der Geist von Page durch seine Gitarre gechannelt wird.Der gebürtige Ire Dave Harrold ist so gelassen überzeugend wie John Paul Jones selbst. Seine schweren Grooves und dämonischen Basslines entführen in eine andere Dimension\, unterbrochen nur von den gelegentlichen Momenten\, in denen sie den sphärischen Klängen der Mandoline Raum machen. Zu sagen\, dass der gebürtige Deutsche Jan Gabriel fast eine Reinkarnation von John Bonham ist\, mag in den Ohren mancher vielleicht anmaßend klingen… doch ehe man gehört hat\, wie er während Moby Dick seine Ludwig Vista Lite und seine Timpanis attackiert\, sollte man besser keine voreiligen Schlüsse ziehen.Am Mikrophon hallt durch die Stimme des gebürtigen Engländers Andrew Elt der charakteristische Plant-Gesang wider. In den dynamischen und kraftvollen\, bisweilen sirenenartigen Gesangslinien\, fängt Elt auf beeindruckende Art und Weise\, genau den majestätischen Sound ein\, den Plant einst in den Studioaufnahmen auf Vinyl gebannt hat. Komplementiert durch den niederländischen Tastenvirtuosen Remco van Zandvoort\, der mit Hammond-Orgel und Melotron\, das alte Handwerkszeug ebenfalls mit Perfektion beherrscht\, vermag es die Band noch tiefer in das legendäre Werk von Led Zeppelin einzutauchen. Mit einem rund zweieinhalbstündigen Set aus den größten Songs von Led Zeppelin\, haben Physical Graffiti bereits Hunderte von Shows in ganz Europa gespielt. \n\n\n\n\nTickets
URL:https://www.raeucherei.org/event/physical-graffiti-greatest-hits-of-led-zeppelin-tour-2025/
CATEGORIES:Konzert
ATTACH;FMTTYPE=image/webp:https://www.raeucherei.org/wp-content/uploads/2025/09/Physical-Graffiti-admat-2025.webp
END:VEVENT
END:VCALENDAR