BEGIN:VCALENDAR
VERSION:2.0
PRODID:-//Räucherei - ECPv6.15.11//NONSGML v1.0//EN
CALSCALE:GREGORIAN
METHOD:PUBLISH
X-WR-CALNAME:Räucherei
X-ORIGINAL-URL:https://www.raeucherei.org
X-WR-CALDESC:Veranstaltungen für Räucherei
REFRESH-INTERVAL;VALUE=DURATION:PT1H
X-Robots-Tag:noindex
X-PUBLISHED-TTL:PT1H
BEGIN:VTIMEZONE
TZID:Europe/Berlin
BEGIN:DAYLIGHT
TZOFFSETFROM:+0100
TZOFFSETTO:+0200
TZNAME:CEST
DTSTART:20240331T010000
END:DAYLIGHT
BEGIN:STANDARD
TZOFFSETFROM:+0200
TZOFFSETTO:+0100
TZNAME:CET
DTSTART:20241027T010000
END:STANDARD
BEGIN:DAYLIGHT
TZOFFSETFROM:+0100
TZOFFSETTO:+0200
TZNAME:CEST
DTSTART:20250330T010000
END:DAYLIGHT
BEGIN:STANDARD
TZOFFSETFROM:+0200
TZOFFSETTO:+0100
TZNAME:CET
DTSTART:20251026T010000
END:STANDARD
BEGIN:DAYLIGHT
TZOFFSETFROM:+0100
TZOFFSETTO:+0200
TZNAME:CEST
DTSTART:20260329T010000
END:DAYLIGHT
BEGIN:STANDARD
TZOFFSETFROM:+0200
TZOFFSETTO:+0100
TZNAME:CET
DTSTART:20261025T010000
END:STANDARD
END:VTIMEZONE
BEGIN:VEVENT
DTSTART;TZID=Europe/Berlin:20250912T200000
DTEND;TZID=Europe/Berlin:20250912T233000
DTSTAMP:20260424T110739
CREATED:20250903T212334Z
LAST-MODIFIED:20250903T212336Z
UID:463-1757707200-1757719800@www.raeucherei.org
SUMMARY:HIPHOP JAM - DIE WUT MUSS RAUS - ALBUM RELEASE PARTY
DESCRIPTION:Hip Hop Jam – Die Wut Muss Raus – Album Release Partyw/ LPP 143 / DRIKONE & ADRINALIN / COBA \n\n\n\n~~~~~~~~~~~~~~~~~~~~~~~~~~~~~~~Am 12.09. droppt das Gaardener Urgestein LPP 143 seine zweite Vinyl und will das mit allen Freunden gepflegten Oldschoolraps feiern. Mit von der Partie sind diesmal DrikOne & AdriNalin aus dem Pott\, Kriso aus’m Rheinland (bringt auch einfach gleich n neues Rlease mit!) und Ezra aus Kiel. Vor allem aber ist natürlich Coba (der auch auf der Platte zu Gast ist) da\, um den Abend abzurunden wie einen Käseleib. Wer stumpfe Texte und Gute-Laune-Musik mag\, wird an dem Abend eher nicht fündig – dafür gibt’s einen verbalen Rundumschlag gegen die herrschenden Zustände in dieser Welt. \n\n\n\n\n\nTickets
URL:https://www.raeucherei.org/event/hiphop-jam-die-wut-muss-raus-album-release-party/
CATEGORIES:Konzert
ATTACH;FMTTYPE=image/jpeg:https://www.raeucherei.org/wp-content/uploads/2025/09/540535125_1400489245412451_4473648896701360929_n.jpg
END:VEVENT
END:VCALENDAR