BEGIN:VCALENDAR
VERSION:2.0
PRODID:-//Räucherei - ECPv6.15.11//NONSGML v1.0//EN
CALSCALE:GREGORIAN
METHOD:PUBLISH
X-WR-CALNAME:Räucherei
X-ORIGINAL-URL:https://www.raeucherei.org
X-WR-CALDESC:Veranstaltungen für Räucherei
REFRESH-INTERVAL;VALUE=DURATION:PT1H
X-Robots-Tag:noindex
X-PUBLISHED-TTL:PT1H
BEGIN:VTIMEZONE
TZID:Europe/Berlin
BEGIN:DAYLIGHT
TZOFFSETFROM:+0100
TZOFFSETTO:+0200
TZNAME:CEST
DTSTART:20240331T010000
END:DAYLIGHT
BEGIN:STANDARD
TZOFFSETFROM:+0200
TZOFFSETTO:+0100
TZNAME:CET
DTSTART:20241027T010000
END:STANDARD
BEGIN:DAYLIGHT
TZOFFSETFROM:+0100
TZOFFSETTO:+0200
TZNAME:CEST
DTSTART:20250330T010000
END:DAYLIGHT
BEGIN:STANDARD
TZOFFSETFROM:+0200
TZOFFSETTO:+0100
TZNAME:CET
DTSTART:20251026T010000
END:STANDARD
BEGIN:DAYLIGHT
TZOFFSETFROM:+0100
TZOFFSETTO:+0200
TZNAME:CEST
DTSTART:20260329T010000
END:DAYLIGHT
BEGIN:STANDARD
TZOFFSETFROM:+0200
TZOFFSETTO:+0100
TZNAME:CET
DTSTART:20261025T010000
END:STANDARD
END:VTIMEZONE
BEGIN:VEVENT
DTSTART;TZID=Europe/Berlin:20250314T203000
DTEND;TZID=Europe/Berlin:20250314T233000
DTSTAMP:20260424T215548
CREATED:20250225T112216Z
LAST-MODIFIED:20250225T112216Z
UID:393-1741984200-1741995000@www.raeucherei.org
SUMMARY:Mud Morganfield and The A-Team aka Muddy Waters Jr. with Band
DESCRIPTION:“MUD MORGANFIELD has grown into a superstar on the blues circuit. Certainly\, there will be comparisons to his dad\, but that can be expected and rightly so. Mud comes as close to the Muddy experience as one can get. He will always pay tribute to his dad with the Chicago blues ensemble sound that Muddy created. But Mud was also brought up musically when soul\, Motown and R&B ruled the world. Mud played bass and performed with bands playing the hits of that era. This\, along with his blues pedigree\, has influenced Mud’s own songwriting skills\, which are constantly evolving.”– R I C K K R E H E R (Muddy Waters’ last guitarist\, and Mud’s long-time current guitarist!) \n\n\n\n\n\nTickets
URL:https://www.raeucherei.org/event/mud-morganfield-and-the-a-team-aka-muddy-waters-jr-with-band/
CATEGORIES:Konzert
ATTACH;FMTTYPE=image/jpeg:https://www.raeucherei.org/wp-content/uploads/2025/01/mud_morganfield_muddy_waters_jr-edited.jpg
END:VEVENT
END:VCALENDAR