BEGIN:VCALENDAR
VERSION:2.0
PRODID:-//Räucherei - ECPv6.15.11//NONSGML v1.0//EN
CALSCALE:GREGORIAN
METHOD:PUBLISH
X-ORIGINAL-URL:https://www.raeucherei.org
X-WR-CALDESC:Veranstaltungen für Räucherei
REFRESH-INTERVAL;VALUE=DURATION:PT1H
X-Robots-Tag:noindex
X-PUBLISHED-TTL:PT1H
BEGIN:VTIMEZONE
TZID:Europe/Berlin
BEGIN:DAYLIGHT
TZOFFSETFROM:+0100
TZOFFSETTO:+0200
TZNAME:CEST
DTSTART:20240331T010000
END:DAYLIGHT
BEGIN:STANDARD
TZOFFSETFROM:+0200
TZOFFSETTO:+0100
TZNAME:CET
DTSTART:20241027T010000
END:STANDARD
BEGIN:DAYLIGHT
TZOFFSETFROM:+0100
TZOFFSETTO:+0200
TZNAME:CEST
DTSTART:20250330T010000
END:DAYLIGHT
BEGIN:STANDARD
TZOFFSETFROM:+0200
TZOFFSETTO:+0100
TZNAME:CET
DTSTART:20251026T010000
END:STANDARD
BEGIN:DAYLIGHT
TZOFFSETFROM:+0100
TZOFFSETTO:+0200
TZNAME:CEST
DTSTART:20260329T010000
END:DAYLIGHT
BEGIN:STANDARD
TZOFFSETFROM:+0200
TZOFFSETTO:+0100
TZNAME:CET
DTSTART:20261025T010000
END:STANDARD
END:VTIMEZONE
BEGIN:VEVENT
DTSTART;TZID=Europe/Berlin:20250228T190000
DTEND;TZID=Europe/Berlin:20250228T235900
DTSTAMP:20260424T221241
CREATED:20250201T230035Z
LAST-MODIFIED:20250201T230035Z
UID:283-1740769200-1740787140@www.raeucherei.org
SUMMARY:26. Internationales Kieler Blues Festival
DESCRIPTION:mit Mitch Ryder (USA)\, Henry Heggen (USA)\, Mojo Men feat. Lutz Krajenski (D) und Lily B. Blues Duo (D) \n\n\n\n\n\nTickets
URL:https://www.raeucherei.org/event/26-internationales-kieler-blues-festival/
CATEGORIES:Konzert
END:VEVENT
END:VCALENDAR